BEGIN:VCALENDAR
VERSION:2.0
PRODID:-//CVJM Neckarsulm - ECPv6.15.20//NONSGML v1.0//EN
CALSCALE:GREGORIAN
METHOD:PUBLISH
X-WR-CALNAME:CVJM Neckarsulm
X-ORIGINAL-URL:https://www.cvjm-neckarsulm.de
X-WR-CALDESC:Veranstaltungen für CVJM Neckarsulm
REFRESH-INTERVAL;VALUE=DURATION:PT1H
X-Robots-Tag:noindex
X-PUBLISHED-TTL:PT1H
BEGIN:VTIMEZONE
TZID:Europe/Berlin
BEGIN:DAYLIGHT
TZOFFSETFROM:+0100
TZOFFSETTO:+0200
TZNAME:CEST
DTSTART:20210328T010000
END:DAYLIGHT
BEGIN:STANDARD
TZOFFSETFROM:+0200
TZOFFSETTO:+0100
TZNAME:CET
DTSTART:20211031T010000
END:STANDARD
BEGIN:DAYLIGHT
TZOFFSETFROM:+0100
TZOFFSETTO:+0200
TZNAME:CEST
DTSTART:20220327T010000
END:DAYLIGHT
BEGIN:STANDARD
TZOFFSETFROM:+0200
TZOFFSETTO:+0100
TZNAME:CET
DTSTART:20221030T010000
END:STANDARD
BEGIN:DAYLIGHT
TZOFFSETFROM:+0100
TZOFFSETTO:+0200
TZNAME:CEST
DTSTART:20230326T010000
END:DAYLIGHT
BEGIN:STANDARD
TZOFFSETFROM:+0200
TZOFFSETTO:+0100
TZNAME:CET
DTSTART:20231029T010000
END:STANDARD
END:VTIMEZONE
BEGIN:VEVENT
DTSTART;TZID=Europe/Berlin:20220905T180000
DTEND;TZID=Europe/Berlin:20220905T200000
DTSTAMP:20260425T032740
CREATED:20211012T052144Z
LAST-MODIFIED:20231126T093200Z
UID:10000175-1662400800-1662408000@www.cvjm-neckarsulm.de
SUMMARY:Montagskicker
DESCRIPTION:Jeden Montag – 52 Wochen im Jahr – um 18.00 Uhr am Rossmarkt Sportplatz (nahe der Neckarbrücke\, beim Vereinsheim für Schäferhunde).\nFür junge und alte\, erfahrene und unerfahrene Fussballer\, die einfach Fussball spielen wollen 🙂\nKontakt: montagskicker@cvjm-neckarsulm.de
URL:https://www.cvjm-neckarsulm.de/kalender/montagskicker/2022-09-05/
LOCATION:Am Rossmarktplatz\, nahe der Neckarbrücke\, Sportplatz\, Neckarsulm\, 74172\, Deutschland
ORGANIZER;CN="CVJM Neckarsulm":MAILTO:kontakt@cvjm-neckarsulm.de
GEO:49.1872031;9.2402248
X-APPLE-STRUCTURED-LOCATION;VALUE=URI;X-ADDRESS=Am Rossmarktplatz nahe der Neckarbrücke Sportplatz Neckarsulm 74172 Deutschland;X-APPLE-RADIUS=500;X-TITLE=Sportplatz:geo:9.2402248,49.1872031
END:VEVENT
BEGIN:VEVENT
DTSTART;TZID=Europe/Berlin:20220912T180000
DTEND;TZID=Europe/Berlin:20220912T200000
DTSTAMP:20260425T032740
CREATED:20211012T052144Z
LAST-MODIFIED:20231126T093200Z
UID:10000176-1663005600-1663012800@www.cvjm-neckarsulm.de
SUMMARY:Montagskicker
DESCRIPTION:Jeden Montag – 52 Wochen im Jahr – um 18.00 Uhr am Rossmarkt Sportplatz (nahe der Neckarbrücke\, beim Vereinsheim für Schäferhunde).\nFür junge und alte\, erfahrene und unerfahrene Fussballer\, die einfach Fussball spielen wollen 🙂\nKontakt: montagskicker@cvjm-neckarsulm.de
URL:https://www.cvjm-neckarsulm.de/kalender/montagskicker/2022-09-12/
LOCATION:Am Rossmarktplatz\, nahe der Neckarbrücke\, Sportplatz\, Neckarsulm\, 74172\, Deutschland
ORGANIZER;CN="CVJM Neckarsulm":MAILTO:kontakt@cvjm-neckarsulm.de
GEO:49.1872031;9.2402248
X-APPLE-STRUCTURED-LOCATION;VALUE=URI;X-ADDRESS=Am Rossmarktplatz nahe der Neckarbrücke Sportplatz Neckarsulm 74172 Deutschland;X-APPLE-RADIUS=500;X-TITLE=Sportplatz:geo:9.2402248,49.1872031
END:VEVENT
BEGIN:VEVENT
DTSTART;TZID=Europe/Berlin:20220917T100000
DTEND;TZID=Europe/Berlin:20220917T160000
DTSTAMP:20260425T032740
CREATED:20220722T044148Z
LAST-MODIFIED:20220830T124827Z
UID:10000296-1663408800-1663430400@www.cvjm-neckarsulm.de
SUMMARY:Jungschartag
DESCRIPTION:Der CVJM Neckarsulm veranstaltet am Samstag\, den 17. September\, einen Jungschartag\, zu dem alle Kinder im Alter von 7-12 Jahren eingeladen sind. In der Martin-Luther-Kirche (Mannheimerweg 20) geht es ab 10 Uhr los\, ein Team mit Ehrenamtlichen wird für die Teilnehmenden ein buntes Programm an Spielen und Aktionen vorbereiten. \nJetzt anmelden: Jungschartag am 17. September
URL:https://www.cvjm-neckarsulm.de/kalender/jungschartag/
LOCATION:Martin-Luther-Kirche Neckarsulm\, Mannheimer Weg 20\, Neckarsulm\, 74172\, Deutschland
ORGANIZER;CN="CVJM Neckarsulm":MAILTO:kontakt@cvjm-neckarsulm.de
GEO:49.20178;9.24061
X-APPLE-STRUCTURED-LOCATION;VALUE=URI;X-ADDRESS=Martin-Luther-Kirche Neckarsulm Mannheimer Weg 20 Neckarsulm 74172 Deutschland;X-APPLE-RADIUS=500;X-TITLE=Mannheimer Weg 20:geo:9.24061,49.20178
END:VEVENT
BEGIN:VEVENT
DTSTART;TZID=Europe/Berlin:20220919T180000
DTEND;TZID=Europe/Berlin:20220919T200000
DTSTAMP:20260425T032740
CREATED:20211012T052144Z
LAST-MODIFIED:20231126T093200Z
UID:10000177-1663610400-1663617600@www.cvjm-neckarsulm.de
SUMMARY:Montagskicker
DESCRIPTION:Jeden Montag – 52 Wochen im Jahr – um 18.00 Uhr am Rossmarkt Sportplatz (nahe der Neckarbrücke\, beim Vereinsheim für Schäferhunde).\nFür junge und alte\, erfahrene und unerfahrene Fussballer\, die einfach Fussball spielen wollen 🙂\nKontakt: montagskicker@cvjm-neckarsulm.de
URL:https://www.cvjm-neckarsulm.de/kalender/montagskicker/2022-09-19/
LOCATION:Am Rossmarktplatz\, nahe der Neckarbrücke\, Sportplatz\, Neckarsulm\, 74172\, Deutschland
ORGANIZER;CN="CVJM Neckarsulm":MAILTO:kontakt@cvjm-neckarsulm.de
GEO:49.1872031;9.2402248
X-APPLE-STRUCTURED-LOCATION;VALUE=URI;X-ADDRESS=Am Rossmarktplatz nahe der Neckarbrücke Sportplatz Neckarsulm 74172 Deutschland;X-APPLE-RADIUS=500;X-TITLE=Sportplatz:geo:9.2402248,49.1872031
END:VEVENT
BEGIN:VEVENT
DTSTART;TZID=Europe/Berlin:20220926T180000
DTEND;TZID=Europe/Berlin:20220926T200000
DTSTAMP:20260425T032740
CREATED:20211012T052144Z
LAST-MODIFIED:20231126T093200Z
UID:10000178-1664215200-1664222400@www.cvjm-neckarsulm.de
SUMMARY:Montagskicker
DESCRIPTION:Jeden Montag – 52 Wochen im Jahr – um 18.00 Uhr am Rossmarkt Sportplatz (nahe der Neckarbrücke\, beim Vereinsheim für Schäferhunde).\nFür junge und alte\, erfahrene und unerfahrene Fussballer\, die einfach Fussball spielen wollen 🙂\nKontakt: montagskicker@cvjm-neckarsulm.de
URL:https://www.cvjm-neckarsulm.de/kalender/montagskicker/2022-09-26/
LOCATION:Am Rossmarktplatz\, nahe der Neckarbrücke\, Sportplatz\, Neckarsulm\, 74172\, Deutschland
ORGANIZER;CN="CVJM Neckarsulm":MAILTO:kontakt@cvjm-neckarsulm.de
GEO:49.1872031;9.2402248
X-APPLE-STRUCTURED-LOCATION;VALUE=URI;X-ADDRESS=Am Rossmarktplatz nahe der Neckarbrücke Sportplatz Neckarsulm 74172 Deutschland;X-APPLE-RADIUS=500;X-TITLE=Sportplatz:geo:9.2402248,49.1872031
END:VEVENT
END:VCALENDAR