BEGIN:VCALENDAR
VERSION:2.0
PRODID:-//CVJM Neckarsulm - ECPv6.15.20//NONSGML v1.0//EN
CALSCALE:GREGORIAN
METHOD:PUBLISH
X-ORIGINAL-URL:https://www.cvjm-neckarsulm.de
X-WR-CALDESC:Veranstaltungen für CVJM Neckarsulm
REFRESH-INTERVAL;VALUE=DURATION:PT1H
X-Robots-Tag:noindex
X-PUBLISHED-TTL:PT1H
BEGIN:VTIMEZONE
TZID:Europe/Berlin
BEGIN:DAYLIGHT
TZOFFSETFROM:+0100
TZOFFSETTO:+0200
TZNAME:CEST
DTSTART:20220327T010000
END:DAYLIGHT
BEGIN:STANDARD
TZOFFSETFROM:+0200
TZOFFSETTO:+0100
TZNAME:CET
DTSTART:20221030T010000
END:STANDARD
BEGIN:DAYLIGHT
TZOFFSETFROM:+0100
TZOFFSETTO:+0200
TZNAME:CEST
DTSTART:20230326T010000
END:DAYLIGHT
BEGIN:STANDARD
TZOFFSETFROM:+0200
TZOFFSETTO:+0100
TZNAME:CET
DTSTART:20231029T010000
END:STANDARD
BEGIN:DAYLIGHT
TZOFFSETFROM:+0100
TZOFFSETTO:+0200
TZNAME:CEST
DTSTART:20240331T010000
END:DAYLIGHT
BEGIN:STANDARD
TZOFFSETFROM:+0200
TZOFFSETTO:+0100
TZNAME:CET
DTSTART:20241027T010000
END:STANDARD
END:VTIMEZONE
BEGIN:VEVENT
DTSTART;TZID=Europe/Berlin:20231201T190000
DTEND;TZID=Europe/Berlin:20231201T210000
DTSTAMP:20260422T194018
CREATED:20231117T104128Z
LAST-MODIFIED:20240129T062958Z
UID:10000412-1701457200-1701464400@www.cvjm-neckarsulm.de
SUMMARY:BAFF-Treff
DESCRIPTION:Jeden Freitag Abend treffen wir uns ab 19 Uhr im BAFF (Gemeindehaus Viktorshöhe)\, jeder ab 13 Jahre ist willkommen vorbeizuschauen! (In den Schulferien findet der Treff normalerweise nicht statt). \nOb der Baff stattfindet und was wir machen geben wir über diesen WhatsApp-Kanal bekannt. Fragen zum Treff? Kontaktiert uns!
URL:https://www.cvjm-neckarsulm.de/kalender/baff-treff/2023-12-01/
LOCATION:Evang. Gemeindehaus Viktorshöhe\, Damaschkestraße 23\, Neckarsulm\, 74172\, Deutschland
ORGANIZER;CN="CVJM Neckarsulm":MAILTO:kontakt@cvjm-neckarsulm.de
GEO:49.19889;9.23048
X-APPLE-STRUCTURED-LOCATION;VALUE=URI;X-ADDRESS=Evang. Gemeindehaus Viktorshöhe Damaschkestraße 23 Neckarsulm 74172 Deutschland;X-APPLE-RADIUS=500;X-TITLE=Damaschkestraße 23:geo:9.23048,49.19889
END:VEVENT
BEGIN:VEVENT
DTSTART;TZID=Europe/Berlin:20231204T180000
DTEND;TZID=Europe/Berlin:20231204T200000
DTSTAMP:20260422T194018
CREATED:20211012T052144Z
LAST-MODIFIED:20231126T093200Z
UID:10000240-1701712800-1701720000@www.cvjm-neckarsulm.de
SUMMARY:Montagskicker
DESCRIPTION:Jeden Montag – 52 Wochen im Jahr – um 18.00 Uhr am Rossmarkt Sportplatz (nahe der Neckarbrücke\, beim Vereinsheim für Schäferhunde).\nFür junge und alte\, erfahrene und unerfahrene Fussballer\, die einfach Fussball spielen wollen 🙂\nKontakt: montagskicker@cvjm-neckarsulm.de
URL:https://www.cvjm-neckarsulm.de/kalender/montagskicker/2023-12-04/
LOCATION:Am Rossmarktplatz\, nahe der Neckarbrücke\, Sportplatz\, Neckarsulm\, 74172\, Deutschland
ORGANIZER;CN="CVJM Neckarsulm":MAILTO:kontakt@cvjm-neckarsulm.de
GEO:49.1872031;9.2402248
X-APPLE-STRUCTURED-LOCATION;VALUE=URI;X-ADDRESS=Am Rossmarktplatz nahe der Neckarbrücke Sportplatz Neckarsulm 74172 Deutschland;X-APPLE-RADIUS=500;X-TITLE=Sportplatz:geo:9.2402248,49.1872031
END:VEVENT
BEGIN:VEVENT
DTSTART;TZID=Europe/Berlin:20231205T153000
DTEND;TZID=Europe/Berlin:20231205T170000
DTSTAMP:20260422T194018
CREATED:20231126T093353Z
LAST-MODIFIED:20231126T093353Z
UID:10000883-1701790200-1701795600@www.cvjm-neckarsulm.de
SUMMARY:Faustball
DESCRIPTION:Jeden Dienstag von 15.30 bis 17.00 Uhr in der Neuberghalle (Danziger Straße 43\, Neckarsulm).\nVon ehemaligen Montagskickern eine Alternative zum Fussball\, die offen ist für jeden.\nKontakt: faustball@cvjm-neckarsulm.de
URL:https://www.cvjm-neckarsulm.de/kalender/faustball/2023-12-05/
LOCATION:Neuberghalle\, Danzigerstraße 43\, Neckarsulm\, 74172\, Deutschland
ORGANIZER;CN="CVJM Neckarsulm":MAILTO:kontakt@cvjm-neckarsulm.de
END:VEVENT
BEGIN:VEVENT
DTSTART;TZID=Europe/Berlin:20231208T190000
DTEND;TZID=Europe/Berlin:20231208T210000
DTSTAMP:20260422T194018
CREATED:20231117T104128Z
LAST-MODIFIED:20240129T062958Z
UID:10000413-1702062000-1702069200@www.cvjm-neckarsulm.de
SUMMARY:BAFF-Treff
DESCRIPTION:Jeden Freitag Abend treffen wir uns ab 19 Uhr im BAFF (Gemeindehaus Viktorshöhe)\, jeder ab 13 Jahre ist willkommen vorbeizuschauen! (In den Schulferien findet der Treff normalerweise nicht statt). \nOb der Baff stattfindet und was wir machen geben wir über diesen WhatsApp-Kanal bekannt. Fragen zum Treff? Kontaktiert uns!
URL:https://www.cvjm-neckarsulm.de/kalender/baff-treff/2023-12-08/
LOCATION:Evang. Gemeindehaus Viktorshöhe\, Damaschkestraße 23\, Neckarsulm\, 74172\, Deutschland
ORGANIZER;CN="CVJM Neckarsulm":MAILTO:kontakt@cvjm-neckarsulm.de
GEO:49.19889;9.23048
X-APPLE-STRUCTURED-LOCATION;VALUE=URI;X-ADDRESS=Evang. Gemeindehaus Viktorshöhe Damaschkestraße 23 Neckarsulm 74172 Deutschland;X-APPLE-RADIUS=500;X-TITLE=Damaschkestraße 23:geo:9.23048,49.19889
END:VEVENT
BEGIN:VEVENT
DTSTART;TZID=Europe/Berlin:20231211T180000
DTEND;TZID=Europe/Berlin:20231211T200000
DTSTAMP:20260422T194018
CREATED:20211012T052144Z
LAST-MODIFIED:20231126T093200Z
UID:10000241-1702317600-1702324800@www.cvjm-neckarsulm.de
SUMMARY:Montagskicker
DESCRIPTION:Jeden Montag – 52 Wochen im Jahr – um 18.00 Uhr am Rossmarkt Sportplatz (nahe der Neckarbrücke\, beim Vereinsheim für Schäferhunde).\nFür junge und alte\, erfahrene und unerfahrene Fussballer\, die einfach Fussball spielen wollen 🙂\nKontakt: montagskicker@cvjm-neckarsulm.de
URL:https://www.cvjm-neckarsulm.de/kalender/montagskicker/2023-12-11/
LOCATION:Am Rossmarktplatz\, nahe der Neckarbrücke\, Sportplatz\, Neckarsulm\, 74172\, Deutschland
ORGANIZER;CN="CVJM Neckarsulm":MAILTO:kontakt@cvjm-neckarsulm.de
GEO:49.1872031;9.2402248
X-APPLE-STRUCTURED-LOCATION;VALUE=URI;X-ADDRESS=Am Rossmarktplatz nahe der Neckarbrücke Sportplatz Neckarsulm 74172 Deutschland;X-APPLE-RADIUS=500;X-TITLE=Sportplatz:geo:9.2402248,49.1872031
END:VEVENT
BEGIN:VEVENT
DTSTART;TZID=Europe/Berlin:20231212T153000
DTEND;TZID=Europe/Berlin:20231212T170000
DTSTAMP:20260422T194018
CREATED:20231126T093353Z
LAST-MODIFIED:20231126T093353Z
UID:10000884-1702395000-1702400400@www.cvjm-neckarsulm.de
SUMMARY:Faustball
DESCRIPTION:Jeden Dienstag von 15.30 bis 17.00 Uhr in der Neuberghalle (Danziger Straße 43\, Neckarsulm).\nVon ehemaligen Montagskickern eine Alternative zum Fussball\, die offen ist für jeden.\nKontakt: faustball@cvjm-neckarsulm.de
URL:https://www.cvjm-neckarsulm.de/kalender/faustball/2023-12-12/
LOCATION:Neuberghalle\, Danzigerstraße 43\, Neckarsulm\, 74172\, Deutschland
ORGANIZER;CN="CVJM Neckarsulm":MAILTO:kontakt@cvjm-neckarsulm.de
END:VEVENT
BEGIN:VEVENT
DTSTART;TZID=Europe/Berlin:20231215T190000
DTEND;TZID=Europe/Berlin:20231215T210000
DTSTAMP:20260422T194018
CREATED:20231117T104128Z
LAST-MODIFIED:20240129T062958Z
UID:10000414-1702666800-1702674000@www.cvjm-neckarsulm.de
SUMMARY:BAFF-Treff
DESCRIPTION:Jeden Freitag Abend treffen wir uns ab 19 Uhr im BAFF (Gemeindehaus Viktorshöhe)\, jeder ab 13 Jahre ist willkommen vorbeizuschauen! (In den Schulferien findet der Treff normalerweise nicht statt). \nOb der Baff stattfindet und was wir machen geben wir über diesen WhatsApp-Kanal bekannt. Fragen zum Treff? Kontaktiert uns!
URL:https://www.cvjm-neckarsulm.de/kalender/baff-treff/2023-12-15/
LOCATION:Evang. Gemeindehaus Viktorshöhe\, Damaschkestraße 23\, Neckarsulm\, 74172\, Deutschland
ORGANIZER;CN="CVJM Neckarsulm":MAILTO:kontakt@cvjm-neckarsulm.de
GEO:49.19889;9.23048
X-APPLE-STRUCTURED-LOCATION;VALUE=URI;X-ADDRESS=Evang. Gemeindehaus Viktorshöhe Damaschkestraße 23 Neckarsulm 74172 Deutschland;X-APPLE-RADIUS=500;X-TITLE=Damaschkestraße 23:geo:9.23048,49.19889
END:VEVENT
BEGIN:VEVENT
DTSTART;TZID=Europe/Berlin:20231217T173000
DTEND;TZID=Europe/Berlin:20231217T200000
DTSTAMP:20260422T194018
CREATED:20231117T103537Z
LAST-MODIFIED:20231117T105951Z
UID:10000409-1702834200-1702843200@www.cvjm-neckarsulm.de
SUMMARY:Waldweihnacht
DESCRIPTION:Der CVJM Neckarsulm lädt alle herzlich zur alljährlichen Waldweihnacht ein\, welche am 17. Dezember (3. Advent) um 17.30 Uhr auf dem Parkplatz des Schweinshag stattfindet. \nTraditionell geht es mit der Waldwanderung mit Fackeln zum Dahenfelder Bahnhof. Gemeinsam wird dort der Weihnachtsbaum erleuchtet und eine Weihnachtsgeschichte vorgetragen. Der Posaunenchor wird dazu verschiedene Weihnachtslieder anstimmen. Anschließend laden wir ein zu Glühwein und Punsch sowie Grillwürsten und Weihnachtsgebäck.
URL:https://www.cvjm-neckarsulm.de/kalender/waldweihnacht/
LOCATION:Parkplatz Schweinshag Neckarsulm\, Schweinshagweg\, Neckarsulm\, 74172
ORGANIZER;CN="CVJM Neckarsulm":MAILTO:kontakt@cvjm-neckarsulm.de
GEO:49.1996298;9.2637359
X-APPLE-STRUCTURED-LOCATION;VALUE=URI;X-ADDRESS=Parkplatz Schweinshag Neckarsulm Schweinshagweg Neckarsulm 74172;X-APPLE-RADIUS=500;X-TITLE=Schweinshagweg:geo:9.2637359,49.1996298
END:VEVENT
BEGIN:VEVENT
DTSTART;TZID=Europe/Berlin:20231218T180000
DTEND;TZID=Europe/Berlin:20231218T200000
DTSTAMP:20260422T194018
CREATED:20211012T052144Z
LAST-MODIFIED:20231126T093200Z
UID:10000242-1702922400-1702929600@www.cvjm-neckarsulm.de
SUMMARY:Montagskicker
DESCRIPTION:Jeden Montag – 52 Wochen im Jahr – um 18.00 Uhr am Rossmarkt Sportplatz (nahe der Neckarbrücke\, beim Vereinsheim für Schäferhunde).\nFür junge und alte\, erfahrene und unerfahrene Fussballer\, die einfach Fussball spielen wollen 🙂\nKontakt: montagskicker@cvjm-neckarsulm.de
URL:https://www.cvjm-neckarsulm.de/kalender/montagskicker/2023-12-18/
LOCATION:Am Rossmarktplatz\, nahe der Neckarbrücke\, Sportplatz\, Neckarsulm\, 74172\, Deutschland
ORGANIZER;CN="CVJM Neckarsulm":MAILTO:kontakt@cvjm-neckarsulm.de
GEO:49.1872031;9.2402248
X-APPLE-STRUCTURED-LOCATION;VALUE=URI;X-ADDRESS=Am Rossmarktplatz nahe der Neckarbrücke Sportplatz Neckarsulm 74172 Deutschland;X-APPLE-RADIUS=500;X-TITLE=Sportplatz:geo:9.2402248,49.1872031
END:VEVENT
BEGIN:VEVENT
DTSTART;TZID=Europe/Berlin:20231219T153000
DTEND;TZID=Europe/Berlin:20231219T170000
DTSTAMP:20260422T194018
CREATED:20231126T093353Z
LAST-MODIFIED:20231126T093353Z
UID:10000885-1702999800-1703005200@www.cvjm-neckarsulm.de
SUMMARY:Faustball
DESCRIPTION:Jeden Dienstag von 15.30 bis 17.00 Uhr in der Neuberghalle (Danziger Straße 43\, Neckarsulm).\nVon ehemaligen Montagskickern eine Alternative zum Fussball\, die offen ist für jeden.\nKontakt: faustball@cvjm-neckarsulm.de
URL:https://www.cvjm-neckarsulm.de/kalender/faustball/2023-12-19/
LOCATION:Neuberghalle\, Danzigerstraße 43\, Neckarsulm\, 74172\, Deutschland
ORGANIZER;CN="CVJM Neckarsulm":MAILTO:kontakt@cvjm-neckarsulm.de
END:VEVENT
BEGIN:VEVENT
DTSTART;TZID=Europe/Berlin:20231222T190000
DTEND;TZID=Europe/Berlin:20231222T210000
DTSTAMP:20260422T194018
CREATED:20231117T104128Z
LAST-MODIFIED:20240129T062958Z
UID:10000415-1703271600-1703278800@www.cvjm-neckarsulm.de
SUMMARY:BAFF-Treff
DESCRIPTION:Jeden Freitag Abend treffen wir uns ab 19 Uhr im BAFF (Gemeindehaus Viktorshöhe)\, jeder ab 13 Jahre ist willkommen vorbeizuschauen! (In den Schulferien findet der Treff normalerweise nicht statt). \nOb der Baff stattfindet und was wir machen geben wir über diesen WhatsApp-Kanal bekannt. Fragen zum Treff? Kontaktiert uns!
URL:https://www.cvjm-neckarsulm.de/kalender/baff-treff/2023-12-22/
LOCATION:Evang. Gemeindehaus Viktorshöhe\, Damaschkestraße 23\, Neckarsulm\, 74172\, Deutschland
ORGANIZER;CN="CVJM Neckarsulm":MAILTO:kontakt@cvjm-neckarsulm.de
GEO:49.19889;9.23048
X-APPLE-STRUCTURED-LOCATION;VALUE=URI;X-ADDRESS=Evang. Gemeindehaus Viktorshöhe Damaschkestraße 23 Neckarsulm 74172 Deutschland;X-APPLE-RADIUS=500;X-TITLE=Damaschkestraße 23:geo:9.23048,49.19889
END:VEVENT
BEGIN:VEVENT
DTSTART;TZID=Europe/Berlin:20231225T180000
DTEND;TZID=Europe/Berlin:20231225T200000
DTSTAMP:20260422T194018
CREATED:20211012T052144Z
LAST-MODIFIED:20231126T093200Z
UID:10000243-1703527200-1703534400@www.cvjm-neckarsulm.de
SUMMARY:Montagskicker
DESCRIPTION:Jeden Montag – 52 Wochen im Jahr – um 18.00 Uhr am Rossmarkt Sportplatz (nahe der Neckarbrücke\, beim Vereinsheim für Schäferhunde).\nFür junge und alte\, erfahrene und unerfahrene Fussballer\, die einfach Fussball spielen wollen 🙂\nKontakt: montagskicker@cvjm-neckarsulm.de
URL:https://www.cvjm-neckarsulm.de/kalender/montagskicker/2023-12-25/
LOCATION:Am Rossmarktplatz\, nahe der Neckarbrücke\, Sportplatz\, Neckarsulm\, 74172\, Deutschland
ORGANIZER;CN="CVJM Neckarsulm":MAILTO:kontakt@cvjm-neckarsulm.de
GEO:49.1872031;9.2402248
X-APPLE-STRUCTURED-LOCATION;VALUE=URI;X-ADDRESS=Am Rossmarktplatz nahe der Neckarbrücke Sportplatz Neckarsulm 74172 Deutschland;X-APPLE-RADIUS=500;X-TITLE=Sportplatz:geo:9.2402248,49.1872031
END:VEVENT
BEGIN:VEVENT
DTSTART;TZID=Europe/Berlin:20231226T153000
DTEND;TZID=Europe/Berlin:20231226T170000
DTSTAMP:20260422T194018
CREATED:20231126T093353Z
LAST-MODIFIED:20231126T093353Z
UID:10000886-1703604600-1703610000@www.cvjm-neckarsulm.de
SUMMARY:Faustball
DESCRIPTION:Jeden Dienstag von 15.30 bis 17.00 Uhr in der Neuberghalle (Danziger Straße 43\, Neckarsulm).\nVon ehemaligen Montagskickern eine Alternative zum Fussball\, die offen ist für jeden.\nKontakt: faustball@cvjm-neckarsulm.de
URL:https://www.cvjm-neckarsulm.de/kalender/faustball/2023-12-26/
LOCATION:Neuberghalle\, Danzigerstraße 43\, Neckarsulm\, 74172\, Deutschland
ORGANIZER;CN="CVJM Neckarsulm":MAILTO:kontakt@cvjm-neckarsulm.de
END:VEVENT
BEGIN:VEVENT
DTSTART;TZID=Europe/Berlin:20231229T190000
DTEND;TZID=Europe/Berlin:20231229T210000
DTSTAMP:20260422T194018
CREATED:20231117T104128Z
LAST-MODIFIED:20240129T062958Z
UID:10000416-1703876400-1703883600@www.cvjm-neckarsulm.de
SUMMARY:BAFF-Treff
DESCRIPTION:Jeden Freitag Abend treffen wir uns ab 19 Uhr im BAFF (Gemeindehaus Viktorshöhe)\, jeder ab 13 Jahre ist willkommen vorbeizuschauen! (In den Schulferien findet der Treff normalerweise nicht statt). \nOb der Baff stattfindet und was wir machen geben wir über diesen WhatsApp-Kanal bekannt. Fragen zum Treff? Kontaktiert uns!
URL:https://www.cvjm-neckarsulm.de/kalender/baff-treff/2023-12-29/
LOCATION:Evang. Gemeindehaus Viktorshöhe\, Damaschkestraße 23\, Neckarsulm\, 74172\, Deutschland
ORGANIZER;CN="CVJM Neckarsulm":MAILTO:kontakt@cvjm-neckarsulm.de
GEO:49.19889;9.23048
X-APPLE-STRUCTURED-LOCATION;VALUE=URI;X-ADDRESS=Evang. Gemeindehaus Viktorshöhe Damaschkestraße 23 Neckarsulm 74172 Deutschland;X-APPLE-RADIUS=500;X-TITLE=Damaschkestraße 23:geo:9.23048,49.19889
END:VEVENT
END:VCALENDAR