BEGIN:VCALENDAR
VERSION:2.0
PRODID:-//CVJM Neckarsulm - ECPv6.15.20//NONSGML v1.0//EN
CALSCALE:GREGORIAN
METHOD:PUBLISH
X-WR-CALNAME:CVJM Neckarsulm
X-ORIGINAL-URL:https://www.cvjm-neckarsulm.de
X-WR-CALDESC:Veranstaltungen für CVJM Neckarsulm
REFRESH-INTERVAL;VALUE=DURATION:PT1H
X-Robots-Tag:noindex
X-PUBLISHED-TTL:PT1H
BEGIN:VTIMEZONE
TZID:Europe/Berlin
BEGIN:DAYLIGHT
TZOFFSETFROM:+0100
TZOFFSETTO:+0200
TZNAME:CEST
DTSTART:20230326T010000
END:DAYLIGHT
BEGIN:STANDARD
TZOFFSETFROM:+0200
TZOFFSETTO:+0100
TZNAME:CET
DTSTART:20231029T010000
END:STANDARD
BEGIN:DAYLIGHT
TZOFFSETFROM:+0100
TZOFFSETTO:+0200
TZNAME:CEST
DTSTART:20240331T010000
END:DAYLIGHT
BEGIN:STANDARD
TZOFFSETFROM:+0200
TZOFFSETTO:+0100
TZNAME:CET
DTSTART:20241027T010000
END:STANDARD
BEGIN:DAYLIGHT
TZOFFSETFROM:+0100
TZOFFSETTO:+0200
TZNAME:CEST
DTSTART:20250330T010000
END:DAYLIGHT
BEGIN:STANDARD
TZOFFSETFROM:+0200
TZOFFSETTO:+0100
TZNAME:CET
DTSTART:20251026T010000
END:STANDARD
END:VTIMEZONE
BEGIN:VEVENT
DTSTART;TZID=Europe/Berlin:20240101T180000
DTEND;TZID=Europe/Berlin:20240101T200000
DTSTAMP:20260422T210720
CREATED:20211012T052144Z
LAST-MODIFIED:20231126T093200Z
UID:10000244-1704132000-1704139200@www.cvjm-neckarsulm.de
SUMMARY:Montagskicker
DESCRIPTION:Jeden Montag – 52 Wochen im Jahr – um 18.00 Uhr am Rossmarkt Sportplatz (nahe der Neckarbrücke\, beim Vereinsheim für Schäferhunde).\nFür junge und alte\, erfahrene und unerfahrene Fussballer\, die einfach Fussball spielen wollen 🙂\nKontakt: montagskicker@cvjm-neckarsulm.de
URL:https://www.cvjm-neckarsulm.de/kalender/montagskicker/2024-01-01/
LOCATION:Am Rossmarktplatz\, nahe der Neckarbrücke\, Sportplatz\, Neckarsulm\, 74172\, Deutschland
ORGANIZER;CN="CVJM Neckarsulm":MAILTO:kontakt@cvjm-neckarsulm.de
GEO:49.1872031;9.2402248
X-APPLE-STRUCTURED-LOCATION;VALUE=URI;X-ADDRESS=Am Rossmarktplatz nahe der Neckarbrücke Sportplatz Neckarsulm 74172 Deutschland;X-APPLE-RADIUS=500;X-TITLE=Sportplatz:geo:9.2402248,49.1872031
END:VEVENT
BEGIN:VEVENT
DTSTART;TZID=Europe/Berlin:20240102T153000
DTEND;TZID=Europe/Berlin:20240102T170000
DTSTAMP:20260422T210721
CREATED:20231126T093353Z
LAST-MODIFIED:20231126T093353Z
UID:10000887-1704209400-1704214800@www.cvjm-neckarsulm.de
SUMMARY:Faustball
DESCRIPTION:Jeden Dienstag von 15.30 bis 17.00 Uhr in der Neuberghalle (Danziger Straße 43\, Neckarsulm).\nVon ehemaligen Montagskickern eine Alternative zum Fussball\, die offen ist für jeden.\nKontakt: faustball@cvjm-neckarsulm.de
URL:https://www.cvjm-neckarsulm.de/kalender/faustball/2024-01-02/
LOCATION:Neuberghalle\, Danzigerstraße 43\, Neckarsulm\, 74172\, Deutschland
ORGANIZER;CN="CVJM Neckarsulm":MAILTO:kontakt@cvjm-neckarsulm.de
END:VEVENT
BEGIN:VEVENT
DTSTART;TZID=Europe/Berlin:20240108T180000
DTEND;TZID=Europe/Berlin:20240108T200000
DTSTAMP:20260422T210721
CREATED:20211012T052144Z
LAST-MODIFIED:20231126T093200Z
UID:10000245-1704736800-1704744000@www.cvjm-neckarsulm.de
SUMMARY:Montagskicker
DESCRIPTION:Jeden Montag – 52 Wochen im Jahr – um 18.00 Uhr am Rossmarkt Sportplatz (nahe der Neckarbrücke\, beim Vereinsheim für Schäferhunde).\nFür junge und alte\, erfahrene und unerfahrene Fussballer\, die einfach Fussball spielen wollen 🙂\nKontakt: montagskicker@cvjm-neckarsulm.de
URL:https://www.cvjm-neckarsulm.de/kalender/montagskicker/2024-01-08/
LOCATION:Am Rossmarktplatz\, nahe der Neckarbrücke\, Sportplatz\, Neckarsulm\, 74172\, Deutschland
ORGANIZER;CN="CVJM Neckarsulm":MAILTO:kontakt@cvjm-neckarsulm.de
GEO:49.1872031;9.2402248
X-APPLE-STRUCTURED-LOCATION;VALUE=URI;X-ADDRESS=Am Rossmarktplatz nahe der Neckarbrücke Sportplatz Neckarsulm 74172 Deutschland;X-APPLE-RADIUS=500;X-TITLE=Sportplatz:geo:9.2402248,49.1872031
END:VEVENT
BEGIN:VEVENT
DTSTART;TZID=Europe/Berlin:20240109T153000
DTEND;TZID=Europe/Berlin:20240109T170000
DTSTAMP:20260422T210721
CREATED:20231126T093353Z
LAST-MODIFIED:20231126T093353Z
UID:10000888-1704814200-1704819600@www.cvjm-neckarsulm.de
SUMMARY:Faustball
DESCRIPTION:Jeden Dienstag von 15.30 bis 17.00 Uhr in der Neuberghalle (Danziger Straße 43\, Neckarsulm).\nVon ehemaligen Montagskickern eine Alternative zum Fussball\, die offen ist für jeden.\nKontakt: faustball@cvjm-neckarsulm.de
URL:https://www.cvjm-neckarsulm.de/kalender/faustball/2024-01-09/
LOCATION:Neuberghalle\, Danzigerstraße 43\, Neckarsulm\, 74172\, Deutschland
ORGANIZER;CN="CVJM Neckarsulm":MAILTO:kontakt@cvjm-neckarsulm.de
END:VEVENT
BEGIN:VEVENT
DTSTART;TZID=Europe/Berlin:20240112T190000
DTEND;TZID=Europe/Berlin:20240112T210000
DTSTAMP:20260422T210721
CREATED:20231117T104128Z
LAST-MODIFIED:20240129T062958Z
UID:10000418-1705086000-1705093200@www.cvjm-neckarsulm.de
SUMMARY:BAFF-Treff
DESCRIPTION:Jeden Freitag Abend treffen wir uns ab 19 Uhr im BAFF (Gemeindehaus Viktorshöhe)\, jeder ab 13 Jahre ist willkommen vorbeizuschauen! (In den Schulferien findet der Treff normalerweise nicht statt). \nOb der Baff stattfindet und was wir machen geben wir über diesen WhatsApp-Kanal bekannt. Fragen zum Treff? Kontaktiert uns!
URL:https://www.cvjm-neckarsulm.de/kalender/baff-treff/2024-01-12/
LOCATION:Evang. Gemeindehaus Viktorshöhe\, Damaschkestraße 23\, Neckarsulm\, 74172\, Deutschland
ORGANIZER;CN="CVJM Neckarsulm":MAILTO:kontakt@cvjm-neckarsulm.de
GEO:49.19889;9.23048
X-APPLE-STRUCTURED-LOCATION;VALUE=URI;X-ADDRESS=Evang. Gemeindehaus Viktorshöhe Damaschkestraße 23 Neckarsulm 74172 Deutschland;X-APPLE-RADIUS=500;X-TITLE=Damaschkestraße 23:geo:9.23048,49.19889
END:VEVENT
BEGIN:VEVENT
DTSTART;TZID=Europe/Berlin:20240113T093000
DTEND;TZID=Europe/Berlin:20240113T130000
DTSTAMP:20260422T210721
CREATED:20231117T110505Z
LAST-MODIFIED:20231117T110540Z
UID:10000672-1705138200-1705150800@www.cvjm-neckarsulm.de
SUMMARY:Christbaum-Sammelaktion 2024
DESCRIPTION:Wie jedes Jahr fährt auch 2024 der CVJM Neckarsulm durch Neckarsulm\, um Ihre Christbäume abzuholen. Am Samstag\, den 13. Januar 2024\, sind die Mitarbeiter des CVJM ab 9 Uhr unterwegs zu Ihnen nach Hause. Abgeholt werden die Bäume in Neckarsulm\, ausgenommen sind die Stadtteile Obereisesheim und Dahenfeld. \nDirekt hier die Abholung anmelden!
URL:https://www.cvjm-neckarsulm.de/kalender/christbaum-sammelaktion-2024/
ORGANIZER;CN="CVJM Neckarsulm":MAILTO:kontakt@cvjm-neckarsulm.de
END:VEVENT
BEGIN:VEVENT
DTSTART;TZID=Europe/Berlin:20240115T180000
DTEND;TZID=Europe/Berlin:20240115T200000
DTSTAMP:20260422T210721
CREATED:20211012T052144Z
LAST-MODIFIED:20231126T093200Z
UID:10000246-1705341600-1705348800@www.cvjm-neckarsulm.de
SUMMARY:Montagskicker
DESCRIPTION:Jeden Montag – 52 Wochen im Jahr – um 18.00 Uhr am Rossmarkt Sportplatz (nahe der Neckarbrücke\, beim Vereinsheim für Schäferhunde).\nFür junge und alte\, erfahrene und unerfahrene Fussballer\, die einfach Fussball spielen wollen 🙂\nKontakt: montagskicker@cvjm-neckarsulm.de
URL:https://www.cvjm-neckarsulm.de/kalender/montagskicker/2024-01-15/
LOCATION:Am Rossmarktplatz\, nahe der Neckarbrücke\, Sportplatz\, Neckarsulm\, 74172\, Deutschland
ORGANIZER;CN="CVJM Neckarsulm":MAILTO:kontakt@cvjm-neckarsulm.de
GEO:49.1872031;9.2402248
X-APPLE-STRUCTURED-LOCATION;VALUE=URI;X-ADDRESS=Am Rossmarktplatz nahe der Neckarbrücke Sportplatz Neckarsulm 74172 Deutschland;X-APPLE-RADIUS=500;X-TITLE=Sportplatz:geo:9.2402248,49.1872031
END:VEVENT
BEGIN:VEVENT
DTSTART;TZID=Europe/Berlin:20240116T153000
DTEND;TZID=Europe/Berlin:20240116T170000
DTSTAMP:20260422T210721
CREATED:20231126T093353Z
LAST-MODIFIED:20231126T093353Z
UID:10000889-1705419000-1705424400@www.cvjm-neckarsulm.de
SUMMARY:Faustball
DESCRIPTION:Jeden Dienstag von 15.30 bis 17.00 Uhr in der Neuberghalle (Danziger Straße 43\, Neckarsulm).\nVon ehemaligen Montagskickern eine Alternative zum Fussball\, die offen ist für jeden.\nKontakt: faustball@cvjm-neckarsulm.de
URL:https://www.cvjm-neckarsulm.de/kalender/faustball/2024-01-16/
LOCATION:Neuberghalle\, Danzigerstraße 43\, Neckarsulm\, 74172\, Deutschland
ORGANIZER;CN="CVJM Neckarsulm":MAILTO:kontakt@cvjm-neckarsulm.de
END:VEVENT
BEGIN:VEVENT
DTSTART;TZID=Europe/Berlin:20240119T190000
DTEND;TZID=Europe/Berlin:20240119T210000
DTSTAMP:20260422T210721
CREATED:20231117T104128Z
LAST-MODIFIED:20240129T062958Z
UID:10000419-1705690800-1705698000@www.cvjm-neckarsulm.de
SUMMARY:BAFF-Treff
DESCRIPTION:Jeden Freitag Abend treffen wir uns ab 19 Uhr im BAFF (Gemeindehaus Viktorshöhe)\, jeder ab 13 Jahre ist willkommen vorbeizuschauen! (In den Schulferien findet der Treff normalerweise nicht statt). \nOb der Baff stattfindet und was wir machen geben wir über diesen WhatsApp-Kanal bekannt. Fragen zum Treff? Kontaktiert uns!
URL:https://www.cvjm-neckarsulm.de/kalender/baff-treff/2024-01-19/
LOCATION:Evang. Gemeindehaus Viktorshöhe\, Damaschkestraße 23\, Neckarsulm\, 74172\, Deutschland
ORGANIZER;CN="CVJM Neckarsulm":MAILTO:kontakt@cvjm-neckarsulm.de
GEO:49.19889;9.23048
X-APPLE-STRUCTURED-LOCATION;VALUE=URI;X-ADDRESS=Evang. Gemeindehaus Viktorshöhe Damaschkestraße 23 Neckarsulm 74172 Deutschland;X-APPLE-RADIUS=500;X-TITLE=Damaschkestraße 23:geo:9.23048,49.19889
END:VEVENT
BEGIN:VEVENT
DTSTART;TZID=Europe/Berlin:20240121T110000
DTEND;TZID=Europe/Berlin:20240121T130000
DTSTAMP:20260422T210721
CREATED:20231117T113922Z
LAST-MODIFIED:20231117T113922Z
UID:10000673-1705834800-1705842000@www.cvjm-neckarsulm.de
SUMMARY:Kirche Kunterbunt
DESCRIPTION:Kirche Kunterbunt ist ein intensives Treffen mit Aktiv-Stationen zu einem Thema\, eine interaktive Feierzeit und Gemeinschaft für Kinder mit ihren Familien. Und organisiert wird dies in Neckarsulm durch eine ehrenamtliche Gruppe aus der Gesamtkirchengemeinde.
URL:https://www.cvjm-neckarsulm.de/kalender/kirche-kunterbunt/
LOCATION:Evang. Gemeindehaus Viktorshöhe\, Damaschkestraße 23\, Neckarsulm\, 74172\, Deutschland
ORGANIZER;CN="Evang. Gesamtkirchengemeinde Neckarsulm und Erlenbach":MAILTO:pfarramt.neckarsulm.stadtkirche@elkw.de
GEO:49.19889;9.23048
X-APPLE-STRUCTURED-LOCATION;VALUE=URI;X-ADDRESS=Evang. Gemeindehaus Viktorshöhe Damaschkestraße 23 Neckarsulm 74172 Deutschland;X-APPLE-RADIUS=500;X-TITLE=Damaschkestraße 23:geo:9.23048,49.19889
END:VEVENT
BEGIN:VEVENT
DTSTART;TZID=Europe/Berlin:20240122T180000
DTEND;TZID=Europe/Berlin:20240122T200000
DTSTAMP:20260422T210721
CREATED:20211012T052144Z
LAST-MODIFIED:20231126T093200Z
UID:10000247-1705946400-1705953600@www.cvjm-neckarsulm.de
SUMMARY:Montagskicker
DESCRIPTION:Jeden Montag – 52 Wochen im Jahr – um 18.00 Uhr am Rossmarkt Sportplatz (nahe der Neckarbrücke\, beim Vereinsheim für Schäferhunde).\nFür junge und alte\, erfahrene und unerfahrene Fussballer\, die einfach Fussball spielen wollen 🙂\nKontakt: montagskicker@cvjm-neckarsulm.de
URL:https://www.cvjm-neckarsulm.de/kalender/montagskicker/2024-01-22/
LOCATION:Am Rossmarktplatz\, nahe der Neckarbrücke\, Sportplatz\, Neckarsulm\, 74172\, Deutschland
ORGANIZER;CN="CVJM Neckarsulm":MAILTO:kontakt@cvjm-neckarsulm.de
GEO:49.1872031;9.2402248
X-APPLE-STRUCTURED-LOCATION;VALUE=URI;X-ADDRESS=Am Rossmarktplatz nahe der Neckarbrücke Sportplatz Neckarsulm 74172 Deutschland;X-APPLE-RADIUS=500;X-TITLE=Sportplatz:geo:9.2402248,49.1872031
END:VEVENT
BEGIN:VEVENT
DTSTART;TZID=Europe/Berlin:20240123T153000
DTEND;TZID=Europe/Berlin:20240123T170000
DTSTAMP:20260422T210721
CREATED:20231126T093353Z
LAST-MODIFIED:20231126T093353Z
UID:10000890-1706023800-1706029200@www.cvjm-neckarsulm.de
SUMMARY:Faustball
DESCRIPTION:Jeden Dienstag von 15.30 bis 17.00 Uhr in der Neuberghalle (Danziger Straße 43\, Neckarsulm).\nVon ehemaligen Montagskickern eine Alternative zum Fussball\, die offen ist für jeden.\nKontakt: faustball@cvjm-neckarsulm.de
URL:https://www.cvjm-neckarsulm.de/kalender/faustball/2024-01-23/
LOCATION:Neuberghalle\, Danzigerstraße 43\, Neckarsulm\, 74172\, Deutschland
ORGANIZER;CN="CVJM Neckarsulm":MAILTO:kontakt@cvjm-neckarsulm.de
END:VEVENT
BEGIN:VEVENT
DTSTART;TZID=Europe/Berlin:20240126T190000
DTEND;TZID=Europe/Berlin:20240126T210000
DTSTAMP:20260422T210721
CREATED:20231117T104128Z
LAST-MODIFIED:20240129T062958Z
UID:10000420-1706295600-1706302800@www.cvjm-neckarsulm.de
SUMMARY:BAFF-Treff
DESCRIPTION:Jeden Freitag Abend treffen wir uns ab 19 Uhr im BAFF (Gemeindehaus Viktorshöhe)\, jeder ab 13 Jahre ist willkommen vorbeizuschauen! (In den Schulferien findet der Treff normalerweise nicht statt). \nOb der Baff stattfindet und was wir machen geben wir über diesen WhatsApp-Kanal bekannt. Fragen zum Treff? Kontaktiert uns!
URL:https://www.cvjm-neckarsulm.de/kalender/baff-treff/2024-01-26/
LOCATION:Evang. Gemeindehaus Viktorshöhe\, Damaschkestraße 23\, Neckarsulm\, 74172\, Deutschland
ORGANIZER;CN="CVJM Neckarsulm":MAILTO:kontakt@cvjm-neckarsulm.de
GEO:49.19889;9.23048
X-APPLE-STRUCTURED-LOCATION;VALUE=URI;X-ADDRESS=Evang. Gemeindehaus Viktorshöhe Damaschkestraße 23 Neckarsulm 74172 Deutschland;X-APPLE-RADIUS=500;X-TITLE=Damaschkestraße 23:geo:9.23048,49.19889
END:VEVENT
BEGIN:VEVENT
DTSTART;TZID=Europe/Berlin:20240129T180000
DTEND;TZID=Europe/Berlin:20240129T200000
DTSTAMP:20260422T210721
CREATED:20211012T052144Z
LAST-MODIFIED:20231126T093200Z
UID:10000248-1706551200-1706558400@www.cvjm-neckarsulm.de
SUMMARY:Montagskicker
DESCRIPTION:Jeden Montag – 52 Wochen im Jahr – um 18.00 Uhr am Rossmarkt Sportplatz (nahe der Neckarbrücke\, beim Vereinsheim für Schäferhunde).\nFür junge und alte\, erfahrene und unerfahrene Fussballer\, die einfach Fussball spielen wollen 🙂\nKontakt: montagskicker@cvjm-neckarsulm.de
URL:https://www.cvjm-neckarsulm.de/kalender/montagskicker/2024-01-29/
LOCATION:Am Rossmarktplatz\, nahe der Neckarbrücke\, Sportplatz\, Neckarsulm\, 74172\, Deutschland
ORGANIZER;CN="CVJM Neckarsulm":MAILTO:kontakt@cvjm-neckarsulm.de
GEO:49.1872031;9.2402248
X-APPLE-STRUCTURED-LOCATION;VALUE=URI;X-ADDRESS=Am Rossmarktplatz nahe der Neckarbrücke Sportplatz Neckarsulm 74172 Deutschland;X-APPLE-RADIUS=500;X-TITLE=Sportplatz:geo:9.2402248,49.1872031
END:VEVENT
BEGIN:VEVENT
DTSTART;TZID=Europe/Berlin:20240130T153000
DTEND;TZID=Europe/Berlin:20240130T170000
DTSTAMP:20260422T210721
CREATED:20231126T093353Z
LAST-MODIFIED:20231126T093353Z
UID:10000891-1706628600-1706634000@www.cvjm-neckarsulm.de
SUMMARY:Faustball
DESCRIPTION:Jeden Dienstag von 15.30 bis 17.00 Uhr in der Neuberghalle (Danziger Straße 43\, Neckarsulm).\nVon ehemaligen Montagskickern eine Alternative zum Fussball\, die offen ist für jeden.\nKontakt: faustball@cvjm-neckarsulm.de
URL:https://www.cvjm-neckarsulm.de/kalender/faustball/2024-01-30/
LOCATION:Neuberghalle\, Danzigerstraße 43\, Neckarsulm\, 74172\, Deutschland
ORGANIZER;CN="CVJM Neckarsulm":MAILTO:kontakt@cvjm-neckarsulm.de
END:VEVENT
END:VCALENDAR